BEGIN:VCALENDAR
VERSION:2.0
PRODID:-//urwahl3000//gruene-neuried.de//DE
CALSCALE:GREGORIAN
BEGIN:VEVENT
DTSTART:20260520T190000
DTEND:20260520T210000
LOCATION:Gasthaus Lorber - Wintergarten Neuried
DTSTAMP:20260520T190000
SUMMARY:„Mach Mit triff Grün“ – 20. Mai 2026
URL;VALUE=URI:https://gruene-neuried.de/termin/mach-mit-triff-gruen-20-mai-2026/
DESCRIPTION:<strong>Offener Treff für alle Interessierten</strong>
<ul>
 	<li>Informationen unserer GRÜNEN Gemeinderäte über aktuelle Themen aus dem Gemeinderat</li>
 	<li>Kostituierende Sitzung des neuen Gemeinderats</li>
 	<li>aktuelle Themen</li>
</ul>
UID:20260520T190000-20260520T190000-20260520T210000
END:VEVENT
END:VCALENDAR